BEGIN:VCALENDAR
VERSION:2.0
PRODID:-//King Ado High School Class of 1995 - ECPv6.15.14//NONSGML v1.0//EN
CALSCALE:GREGORIAN
METHOD:PUBLISH
X-ORIGINAL-URL:https://kahsosaclassof95.org
X-WR-CALDESC:Events for King Ado High School Class of 1995
REFRESH-INTERVAL;VALUE=DURATION:PT1H
X-Robots-Tag:noindex
X-PUBLISHED-TTL:PT1H
BEGIN:VTIMEZONE
TZID:Africa/Accra
BEGIN:STANDARD
TZOFFSETFROM:+0000
TZOFFSETTO:+0000
TZNAME:GMT
DTSTART:20250101T000000
END:STANDARD
END:VTIMEZONE
BEGIN:VTIMEZONE
TZID:UTC
BEGIN:STANDARD
TZOFFSETFROM:+0000
TZOFFSETTO:+0000
TZNAME:UTC
DTSTART:20210101T000000
END:STANDARD
END:VTIMEZONE
BEGIN:VEVENT
DTSTART;TZID=Africa/Accra:20260101T080000
DTEND;TZID=Africa/Accra:20260103T170000
DTSTAMP:20260419T122511
CREATED:20251215T212704Z
LAST-MODIFIED:20251215T214530Z
UID:1681-1767254400-1767459600@kahsosaclassof95.org
SUMMARY:Kahsosa 30th  year Anniversary 
DESCRIPTION:Join us in celebrating King Ado High School 30th  year Anniversary
URL:https://kahsosaclassof95.org/event/kahsosa-30th-year-anniversary/
LOCATION:Eko Hotel And Suites\,\, 1415 Adetokunbo Ademola Street\, Victoria Island\, Lagos 106104\, Lagos\, LAGOS\, Lagos\, 100001\, Nigeria
ATTACH;FMTTYPE=image/jpeg:https://kahsosaclassof95.org/wp-content/uploads/2025/12/WhatsApp-Image-2025-11-24-at-3.35.13-PM.jpeg
END:VEVENT
BEGIN:VEVENT
DTSTART;TZID=UTC:20220509T080000
DTEND;TZID=UTC:20220509T170000
DTSTAMP:20260419T122511
CREATED:20210317T033032Z
LAST-MODIFIED:20210317T033032Z
UID:515-1652083200-1652115600@kahsosaclassof95.org
SUMMARY:Architecture Week
DESCRIPTION:Sed ut perspiciatis unde omnis iste natus error sit voluptatem accusantium doloremque laudantium\, totam rem aperiam\, eaque ipsa quae ab illo. \nSed ut perspiciatis unde omnis iste natus error sit voluptatem accusantium doloremque laudantium\, totam rem aperiam\, eaque ipsa quae ab illo inventore veritatis et quasi architecto beatae vitae dicta sunt explicabo. Nemo enim ipsam voluptatem quia voluptas sit aspernatur aut odit aut fugit\, sed quia consequuntur magni dolores eos qui ratione voluptatem sequi nesciunt.
URL:https://kahsosaclassof95.org/event/architecture-interior-week/
LOCATION:New York\, 8 King Street\, NY\, 101\, United States
CATEGORIES:Seminars
ATTACH;FMTTYPE=image/jpeg:https://kahsosaclassof95.org/wp-content/uploads/2021/03/event-5.jpg
ORGANIZER;CN="Gary Jones":MAILTO:halpes@example.com
END:VEVENT
BEGIN:VEVENT
DTSTART;TZID=UTC:20220509T080000
DTEND;TZID=UTC:20220509T170000
DTSTAMP:20260419T122511
CREATED:20210304T031301Z
LAST-MODIFIED:20210304T031301Z
UID:448-1652083200-1652115600@kahsosaclassof95.org
SUMMARY:International Architecture 2022
DESCRIPTION:Sed ut perspiciatis unde omnis iste natus error sit voluptatem accusantium doloremque laudantium\, totam rem aperiam\, eaque ipsa quae ab illo. \nSed ut perspiciatis unde omnis iste natus error sit voluptatem accusantium doloremque laudantium\, totam rem aperiam\, eaque ipsa quae ab illo inventore veritatis et quasi architecto beatae vitae dicta sunt explicabo. Nemo enim ipsam voluptatem quia voluptas sit aspernatur aut odit aut fugit\, sed quia consequuntur magni dolores eos qui ratione voluptatem sequi nesciunt.
URL:https://kahsosaclassof95.org/event/international-architecture-2022/
LOCATION:New York\, 8 King Street\, NY\, 101\, United States
CATEGORIES:Seminars
ATTACH;FMTTYPE=image/jpeg:https://kahsosaclassof95.org/wp-content/uploads/2021/03/event-2.jpg
ORGANIZER;CN="Gary Jones":MAILTO:halpes@example.com
END:VEVENT
END:VCALENDAR